BEGIN:VCALENDAR
VERSION:2.0
PRODID:-//Tax compliance is challenging. Leave it to us! - 1stopVAT - ECPv6.15.20//NONSGML v1.0//EN
CALSCALE:GREGORIAN
METHOD:PUBLISH
X-ORIGINAL-URL:https://1stopvat.com
X-WR-CALDESC:Events for Tax compliance is challenging. Leave it to us! - 1stopVAT
REFRESH-INTERVAL;VALUE=DURATION:PT1H
X-Robots-Tag:noindex
X-PUBLISHED-TTL:PT1H
BEGIN:VTIMEZONE
TZID:Europe/Vilnius
BEGIN:DAYLIGHT
TZOFFSETFROM:+0200
TZOFFSETTO:+0300
TZNAME:EEST
DTSTART:20240331T010000
END:DAYLIGHT
BEGIN:STANDARD
TZOFFSETFROM:+0300
TZOFFSETTO:+0200
TZNAME:EET
DTSTART:20241027T010000
END:STANDARD
BEGIN:DAYLIGHT
TZOFFSETFROM:+0200
TZOFFSETTO:+0300
TZNAME:EEST
DTSTART:20250330T010000
END:DAYLIGHT
BEGIN:STANDARD
TZOFFSETFROM:+0300
TZOFFSETTO:+0200
TZNAME:EET
DTSTART:20251026T010000
END:STANDARD
BEGIN:DAYLIGHT
TZOFFSETFROM:+0200
TZOFFSETTO:+0300
TZNAME:EEST
DTSTART:20260329T010000
END:DAYLIGHT
BEGIN:STANDARD
TZOFFSETFROM:+0300
TZOFFSETTO:+0200
TZNAME:EET
DTSTART:20261025T010000
END:STANDARD
END:VTIMEZONE
BEGIN:VEVENT
DTSTART;VALUE=DATE:20250529
DTEND;VALUE=DATE:20250531
DTSTAMP:20260419T185750
CREATED:20250212T135511Z
LAST-MODIFIED:20250212T135511Z
UID:10000002-1748476800-1748649599@1stopvat.com
SUMMARY:i-Con Island Conference
DESCRIPTION:Join us at the i-Con Island Conference for an exciting opportunity to connect\, collaborate\, and grow! \nWe’ll be exhibiting\, so be sure to visit our booth in the Mercury. \nWe look forward to engaging with industry leaders and innovators – come by for a chat and let’s explore new possibilities together!
URL:https://1stopvat.com/event/i-con-island-conference/
LOCATION:City of Dreams Mediterranean Limassol\, Cyprus
END:VEVENT
END:VCALENDAR